BEGIN:VCALENDAR
VERSION:2.0
PRODID:-//wp-events-plugin.com//7.2.3.1//EN
TZID:America/New_York
X-WR-TIMEZONE:America/New_York
BEGIN:VEVENT
UID:716@clevelandphoto.org
DTSTART;TZID=America/New_York:20250802T063000
DTEND;TZID=America/New_York:20250802T110000
DTSTAMP:20250731T230433Z
URL:https://www.clevelandphoto.org/events/field-trip-mansfield-reformatory
 /
SUMMARY:Field Trip  Mansfield Reformatory
DESCRIPTION:Field Trip NOW OPEN TO EVERYONE!\n\nMansfield Reformatory\n\nAu
 gust 2 2025\n\n6:30 am - 11:00 am\n\n\n\nFor four hours beginning at 7am\,
  we will have unimpeded access to the entire Reformatory until the doors o
 pen to the general public at 11am. During this period\, tripods\, flash an
 d light painting will be permitted (no drones or model photography).\n\nWe
  are not permitted to stay past 11am.\n\n&nbsp\;\n\n(please note that no o
 ne under 18 can attend this fieldtrip)\n\nThe Reformatory is located at\n\
 n100 Reformatory Rd\, Mansfield\, OH 44905\n\nCost\n\nCost for this trip w
 ill be $30 per person\, whether taking photographs or not. Members ONLY a
 t this time. If we don't meet the minimum\, we may open to others in the f
 uture.\n\nNO MODELS ALLOWED ON THIS FIELD TRIP\, PLEASE SEE MANSFIELD REFO
 RMATORY FAQ!\n\nWe are required to meet a minimum participation in order t
 o proceed\, so sign-up must be done by 07/13/2025. Please check the calend
 ar on a frequent basis for any updates or changes.\n\n** Payment for this 
 field trip MUST be made in advance through the  links. NO registration ca
 n be accepted on the day of the event. No refunds PLEASE NOTE: you will re
 ceive a confirmation for your purchase through PayPal but no PHYSICAL TICK
 ETS will be issued. Those who register will receive an email approximately
  one week before the event with all the info.\n\n\n\n\n\n\n\nPLEASE NOTE T
 HESE IMPORTANT SAFETY CONSIDERATIONS:\n\nWhile every effort has been made 
 by the Mansfield Reformatory Preservation Society to ensure your safe enjo
 yment of the facility\, you should always be mindful of where you are and
  where your next step will take you. Pregnant women are advised to take c
 aution due to possible exposure to lead-based paint. All participants wil
 l be required to sign a release form before entry.\n\nAs with all field t
 rips\, CPS cannot be held responsible for any accidents or injuries - plea
 se enjoy yourself\, but participate at your own risk.\n\nThere are no rest
 rictions on the non-commercial use of your photographs.\n\nThis trip wil
 l be held rain or shine.\n\nOn the day of the event\, you'll check in with
  us by 6:30am gates close at 7am and receive a wristband or other form of 
 ticket for entry to the facility.\n\nFor more information on the facility\
 , its rich history and what to expect\, please visit their website..\n\nqu
 estions?: fieldtrips@clevelandphoto.org\n\n\n\n\n\n\n\n\n\n\n\n\n\n\nOpti
 onal Things to Do After the Reformatory\n\nSince Mansfield is a bit of a d
 rive and the Reformatory trip will end before noon\, plan to make a day of
  it in the area and visit some of the other nearby attractions\, all a sho
 rt drive from the Reformatory.\n\nOptions include:\n\n- Carrousel Park i
 n downtown Mansfield\n\n- Kingwood Gardens\n\n- Malabar Farm State Park\n
 \n\n\n\n\n\n\n&nbsp\;\n\n&nbsp\;\n\n\n\n\n\n\n\n\n\n\n\n\n\n\n\n&nbsp\;\n\
 n\n\n\n\n\n\n&nbsp\;\n\n\n\n\n\n\n\n\n\n\n\n\n\n\n\n&nbsp\;\n\n&nbsp\;
END:VEVENT
BEGIN:VTIMEZONE
TZID:America/New_York
X-LIC-LOCATION:America/New_York
BEGIN:DAYLIGHT
DTSTART:20250309T030000
TZOFFSETFROM:-0500
TZOFFSETTO:-0400
TZNAME:EDT
END:DAYLIGHT
END:VTIMEZONE
END:VCALENDAR