BEGIN:VCALENDAR
VERSION:2.0
PRODID:-//wp-events-plugin.com//7.2.3.1//EN
TZID:America/New_York
X-WR-TIMEZONE:America/New_York
BEGIN:VEVENT
UID:352@clevelandphoto.org
DTSTART;TZID=America/New_York:20240704T193000
DTEND;TZID=America/New_York:20240704T223000
DTSTAMP:20240627T112754Z
URL:https://www.clevelandphoto.org/events/field-trip-fourth-of-july-firewo
 rk-boat-cruise/
SUMMARY:Field Trip - Fourth of July Firework Boat Cruise - Closed
DESCRIPTION:&nbsp\;\n\n\n\nEach year\, CPS contracts with the Holiday excur
 sion boat to provide members and their families the opportunity to see and
  shoot the Cleveland fireworks from the water\, with the city skyline in t
 he background.\n\nItinerary: Fourth of July fireworks viewed from the wate
 r.  Additional details to be sent to individuals who register.\n\n&nbsp\;
 \n\nTime: Thursday\, July 4th at 7:45pm. Please plan to be flexible regard
 ing arrival time\, but must arrive prior to 7:45pm. The cruise is booked f
 or a total of 3 hours.\n\n&nbsp\;\n\nCost: Ticket sales for this trip is n
 ow closed.\n\n&nbsp\;\n\nDirections: The Holiday is docked in downtown Cle
 veland and will be positioned on the Lake for a unique vantage point of th
 e fireworks. Full details and maps will be provided to those who register 
 for the trip.\n\n&nbsp\;\n\nField Trip Sponsor: Natalie Souza for coordina
 ting this trip!\n\n&nbsp\;\n\nAdditional Questions: Email: Field Trips\n\n
 &nbsp\;\n\nPLEASE NOTE: As with all field trips\, CPS cannot be held respo
 nsible for any accidents or injuries - participate at your own risk.\n\n&n
 bsp\;
END:VEVENT
BEGIN:VTIMEZONE
TZID:America/New_York
X-LIC-LOCATION:America/New_York
BEGIN:DAYLIGHT
DTSTART:20240310T030000
TZOFFSETFROM:-0500
TZOFFSETTO:-0400
TZNAME:EDT
END:DAYLIGHT
END:VTIMEZONE
END:VCALENDAR