BEGIN:VCALENDAR
VERSION:2.0
PRODID:-//wp-events-plugin.com//7.2.3.1//EN
TZID:America/New_York
X-WR-TIMEZONE:America/New_York
BEGIN:VEVENT
UID:523@clevelandphoto.org
DTSTART;TZID=America/New_York:20241102T100000
DTEND;TZID=America/New_York:20241102T120000
DTSTAMP:20241027T141630Z
URL:https://www.clevelandphoto.org/events/fall-colors-workshop-editing/
SUMMARY:Fall Colors Workshop - Editing
DESCRIPTION:Prior registration required.
END:VEVENT
BEGIN:VTIMEZONE
TZID:America/New_York
X-LIC-LOCATION:America/New_York
BEGIN:DAYLIGHT
DTSTART:20240310T030000
TZOFFSETFROM:-0500
TZOFFSETTO:-0400
TZNAME:EDT
END:DAYLIGHT
END:VTIMEZONE
END:VCALENDAR