BEGIN:VCALENDAR
VERSION:2.0
PRODID:-//wp-events-plugin.com//7.2.3.1//EN
TZID:America/New_York
X-WR-TIMEZONE:America/New_York
BEGIN:VEVENT
UID:329@clevelandphoto.org
DTSTART;TZID=America/New_York:20240714T090000
DTEND;TZID=America/New_York:20240714T113000
DTSTAMP:20240609T180327Z
URL:https://www.clevelandphoto.org/events/fairport-harbor-field-trip/
SUMMARY:Fairport Harbor Field Trip
DESCRIPTION:Itinerary: Meet at 9:00am at Walnut Beach to photograph the As
 htabula Lighthouse.  We will proceed to Headland's Park to photograph the
  Fairport Harbor Breakwater Lighthouse and finish up at the Fairport Harbo
 r Lighthouse.\n\n&nbsp\;\n\nWho: There is no cost for this field trip.  P
 articipants are responsible for parking fees.  The field trip is open to 
 EVERYONE.\n\n&nbsp\;\n\nWhere: Meeting point: Walnut Beach.\n\nFor a map: 
 click here\n\n&nbsp\;\n\nEquipment: Camera. Various interchangeable lens i
 ncluding wide-angle\, telephoto (min. 400mm)\, or multi-purpose zoom lens\
 , tripod (recommended). Extra batteries\, and memory cards\, etc. and dres
 s appropriately to the weather forecast. If it is warm\, you may need bug 
 spray\n\n&nbsp\;\n\nAdditional Information:\n\nLink: Ashtabula Lighthouse\
 n\nLink: Fariport Harbor Lighthouse\n\nIn addition\, there are a few optio
 ns for lunch once we get to the Fairport Harbor.\n\n&nbsp\;\n\nField Trip 
 Sponsor: Thank you\, Jerry Phenney for coordinating!\n\n&nbsp\;\n\nAdditio
 nal Questions: Email: Field Trips\n\n&nbsp\;\n\nPLEASE NOTE: As with all f
 ield trips\, CPS cannot be held responsible for any accidents or injuries 
 - participate at your own risk.\n\n&nbsp\;
END:VEVENT
BEGIN:VTIMEZONE
TZID:America/New_York
X-LIC-LOCATION:America/New_York
BEGIN:DAYLIGHT
DTSTART:20240310T030000
TZOFFSETFROM:-0500
TZOFFSETTO:-0400
TZNAME:EDT
END:DAYLIGHT
END:VTIMEZONE
END:VCALENDAR