BEGIN:VCALENDAR
VERSION:2.0
PRODID:-//wp-events-plugin.com//7.2.3.1//EN
TZID:America/New_York
X-WR-TIMEZONE:America/New_York
BEGIN:VEVENT
UID:649@clevelandphoto.org
DTSTART;TZID=America/New_York:20250613T170000
DTEND;TZID=America/New_York:20250613T200000
DTSTAMP:20250322T111158Z
URL:https://www.clevelandphoto.org/events/exhibit-opening-reception-at-hei
 ghts-arts-black-and-white/
SUMMARY:Exhibit Opening Reception at Heights Arts - "Black and White"
DESCRIPTION:Celebrate the opening of this exhibit!  It is a wonderful oppo
 rtunity to meet and engage with club members!  Light refreshments will be
  provided.  Open to all CPS members and non-members.\n\nHeights Arts | 2
 175 Lee Rd | Cleveland Heights
END:VEVENT
BEGIN:VTIMEZONE
TZID:America/New_York
X-LIC-LOCATION:America/New_York
BEGIN:DAYLIGHT
DTSTART:20250309T030000
TZOFFSETFROM:-0500
TZOFFSETTO:-0400
TZNAME:EDT
END:DAYLIGHT
END:VTIMEZONE
END:VCALENDAR