BEGIN:VCALENDAR
VERSION:2.0
PRODID:-//wp-events-plugin.com//7.2.3.1//EN
TZID:America/New_York
X-WR-TIMEZONE:America/New_York
BEGIN:VEVENT
UID:122@clevelandphoto.org
DTSTART;TZID=America/New_York:20230714T193000
DTEND;TZID=America/New_York:20230714T210000
DTSTAMP:20230523T172031Z
URL:https://www.clevelandphoto.org/events/erich-saide-my-journey-into-phot
 ography-zoom-event-clubhouse-will-be-open/
SUMMARY:Erich Saide - My Journey into Photography - Zoom Event (Clubhouse w
 ill be Open)
DESCRIPTION:\n\n\nErich Saide is an award-winning photographer known for hi
 s crisp\, highly polished imagery. From soft and sensual to edgy and drama
 tic\, his stylized\, cleanly executed photos use incredible lighting to ca
 pture a diverse range of moods.\n\nAfter over 22 years in the business\, E
 rich’s body of work spans an impressive breadth of styles and industries
 . Extremely motivated\, energetic and full of passion for his craft\, whet
 her it's in the studio\, on location\, or by the side of a film set\, Eric
 h is happiest when he's creating powerful and dynamic images.\n\nWinner of
  the Communication Arts 58th Photography Annual Competition\, his work has
  also graced the pages of Elle Canada\, and is the recipient of the L’Or
 eal Colour Trophy.\n\nBorn in Kingston\, Jamaica and raised in Vancouver\,
  BC\, Canada\, Erich worked as a carpenter before embarking on a career in
  Commercial and Advertising Photography\, both locally and abroad. His stu
 dio is located in Vancouver’s historic Gastown district.\n\nErich will t
 ake us on his journey of how he got into his career as an award-winning ph
 otographer through many "life events" including his personal struggles. He
  will also tell us of how adversity led him to create one of his important
  works. Humans of Support and as he would say about the pandemic "When lif
 e gives you lemons\, squeeze them hard!"\nJoin Erich for an enlightening a
 nd inspiring presentation about his path and passion using his theme of fo
 llow your dreams\, believe in yourself and strive to be your best! This wi
 ll be a Zoom event - the clubhouse will be open and a Zoom link will be se
 nt to all members the week of his talk.\n\n\n\n\n\n\n\n\n\n\n\n  ERICH 
 SAIDE  | PHOTOGRAPHER\n\nc:+1.604.802.2508  | e:erich@erichsaide.com\
 nw:erichsaide.com | i:instagram.com/erichsaide\nt:@erichsaide  | b:blo
 g.erichsaide.com\n\nFounder: Humans Of Support initiative.\nwww.facebo
 ok.com/humansofsupport/\nwww.instagram.com/humansofsupport/\nwww.humansofs
 upport.org\n#HumansOfSupport\n\nCommunication Arts Photography Annual Awar
 d Winner\n\n\n\n\n\n\n\n\n\n\n\n\n\n\n\n\n\n\n\n\n\n\n\n\n\n\n\n\n\n\n\n\n
 \n\n\n\n\n
END:VEVENT
BEGIN:VTIMEZONE
TZID:America/New_York
X-LIC-LOCATION:America/New_York
BEGIN:DAYLIGHT
DTSTART:20230312T030000
TZOFFSETFROM:-0500
TZOFFSETTO:-0400
TZNAME:EDT
END:DAYLIGHT
END:VTIMEZONE
END:VCALENDAR