BEGIN:VCALENDAR
VERSION:2.0
PRODID:-//wp-events-plugin.com//7.2.3.1//EN
TZID:America/New_York
X-WR-TIMEZONE:America/New_York
BEGIN:VEVENT
UID:258@clevelandphoto.org
DTSTART;TZID=America/New_York:20240524T193000
DTEND;TZID=America/New_York:20240524T223000
DTSTAMP:20240203T140021Z
URL:https://www.clevelandphoto.org/events/end-of-year-competition-awards/
SUMMARY:End of Year Competition Awards
DESCRIPTION:At this meeting we will be presenting the winners of the pictur
 es of the year in all competition and special categories.
END:VEVENT
BEGIN:VTIMEZONE
TZID:America/New_York
X-LIC-LOCATION:America/New_York
BEGIN:DAYLIGHT
DTSTART:20240310T030000
TZOFFSETFROM:-0500
TZOFFSETTO:-0400
TZNAME:EDT
END:DAYLIGHT
END:VTIMEZONE
END:VCALENDAR