BEGIN:VCALENDAR
VERSION:2.0
PRODID:-//wp-events-plugin.com//7.2.3.1//EN
TZID:America/New_York
X-WR-TIMEZONE:America/New_York
BEGIN:VEVENT
UID:652@clevelandphoto.org
DTSTART;TZID=America/New_York:20250717T190000
DTEND;TZID=America/New_York:20250717T190000
DTSTAMP:20250322T112312Z
URL:https://www.clevelandphoto.org/events/ekphrastacy-at-heights-arts/
SUMMARY:Ekphrastacy at Heights Arts
DESCRIPTION:Heights Arts Poet Laureate performs original works inspired by 
 CPS "Black and White" Exhibit\n\nHeights Arts | 2175 Lee Rd | Cleveland 
 Heights
END:VEVENT
BEGIN:VTIMEZONE
TZID:America/New_York
X-LIC-LOCATION:America/New_York
BEGIN:DAYLIGHT
DTSTART:20250309T030000
TZOFFSETFROM:-0500
TZOFFSETTO:-0400
TZNAME:EDT
END:DAYLIGHT
END:VTIMEZONE
END:VCALENDAR