BEGIN:VCALENDAR
VERSION:2.0
PRODID:-//wp-events-plugin.com//7.2.3.1//EN
TZID:America/New_York
X-WR-TIMEZONE:America/New_York
BEGIN:VEVENT
UID:269@clevelandphoto.org
DTSTART;TZID=America/New_York:20231130T190000
DTEND;TZID=America/New_York:20231130T210000
DTSTAMP:20231001T125325Z
URL:https://www.clevelandphoto.org/events/edge-gallery-exhibit-opening-rec
 eption/
SUMMARY:Opening Reception - Edge Gallery Exhibit
DESCRIPTION:Join us to celebrate the opening of this exhibit at Edge Galler
 y in Cleveland!\n\nWho is invited: Everyone!  CPS membership is not requi
 red\n\nWhere?\nEdge Gallery at Studio West 117\n11606 Detroit Avenue\nClev
 eland OH 44102\nLight refreshments will be provided\n\nSee the Exhibits Pa
 ge for more details\n\n&nbsp\;\n\n&nbsp\;
END:VEVENT
BEGIN:VTIMEZONE
TZID:America/New_York
X-LIC-LOCATION:America/New_York
BEGIN:STANDARD
DTSTART:20231105T010000
TZOFFSETFROM:-0400
TZOFFSETTO:-0500
TZNAME:EST
END:STANDARD
END:VTIMEZONE
END:VCALENDAR