BEGIN:VCALENDAR
VERSION:2.0
PRODID:-//wp-events-plugin.com//7.2.3.1//EN
TZID:America/New_York
X-WR-TIMEZONE:America/New_York
BEGIN:VEVENT
UID:277@clevelandphoto.org
DTSTART;TZID=America/New_York:20231209T163000
DTEND;TZID=America/New_York:20231209T183000
DTSTAMP:20231119T163216Z
URL:https://www.clevelandphoto.org/events/downtown-cleveland-christmas-lig
 ht-field-trip/
SUMMARY:Downtown Cleveland Christmas Lights Field Trip
DESCRIPTION:As the holiday season is here\, please join CPS downtown Clevel
 and in Public Square to enjoy and explore the holiday light displays.\n\nI
 tinerary: Enjoy various photo opportunities as we wonder through Public Sq
 uare taking in the holiday lights. If time permits\, we may walk to Playho
 use Square.\n\n&nbsp\;\n\nFor Additional Information: WinterLand CLE\n\n&n
 bsp\;\n\nWhere: Meet in front of Terminal Tower at 4:30pm.\n\nFor a map: c
 lick here\n\n&nbsp\;\n\nField Trip Sponsor: Jerry Phenney - many thanks!\n
 \n&nbsp\;\n\nAdditional Questions: Email: Field Trips\n\n&nbsp\;\n\nPLEASE
  NOTE: As with all field trips\, CPS cannot be held responsible for any ac
 cidents or injuries - participate at your own risk.
END:VEVENT
BEGIN:VTIMEZONE
TZID:America/New_York
X-LIC-LOCATION:America/New_York
BEGIN:STANDARD
DTSTART:20231105T010000
TZOFFSETFROM:-0400
TZOFFSETTO:-0500
TZNAME:EST
END:STANDARD
END:VTIMEZONE
END:VCALENDAR