BEGIN:VCALENDAR
VERSION:2.0
PRODID:-//wp-events-plugin.com//7.2.3.1//EN
TZID:America/New_York
X-WR-TIMEZONE:America/New_York
BEGIN:VEVENT
UID:573@clevelandphoto.org
DTSTART;TZID=America/New_York:20250103T193000
DTEND;TZID=America/New_York:20250103T210000
DTSTAMP:20250103T174826Z
URL:https://www.clevelandphoto.org/events/doug-hansgate-photographer-zoom-
 presentation-club-will-be-open/
SUMMARY:CANCELED DUE TO WEATHER - RESCEDULE FOR JUNE 27TH - Doug Hansgate P
 hotographer  In-person Presentation - Club will be open
DESCRIPTION:\n\nThe foundations of classical portraiture.\n\nHow did the ol
 d masters create such dramatic lighting with limited light sources and tec
 hnology? How can we easily emulate that work today? This program is design
 ed to walk a group presentation through the plan of attack\, show the equi
 pment\, and demo how some of these images were made in a live demo with mo
 del. Included are some editing techniques to show attendees how to maximiz
 e their image production.\nThe classical forms of portraiture\nLive event:
  Bring your camera.\nDoug uses Fujifilm cameras\, and in the past has used
  Canon\, Hasselblad\, Sony and Olympus equipment in his work. In addition 
 he has tested and uses a variety of lens.\n\nAs a FJ Westcott ambassador h
 e uses Westcott lighting equipment on location. His studio has a variety o
 f lighting gear including an extensive collection of Westcott gear and lig
 hts. His Main Studio lights are Elinchrom lights digitally controlled by c
 omputer\, and a complete Nanlite continuous light studio for video and sti
 ll work.\n\nDoug uses specific equipment that he has found to be invaluabl
 e. Please use the links below to find out more.\n\nNANLITE Lighting Equipm
 ent\n\nKupo Grip Studio Gear\n\nSekonic Meters\n\nFJWestcott Lighting Equi
 pment\n\nThinkTank Bags (organize your gear)\n\nMindshift Gear\n\nElinchro
 m Lighting\nPreferred Suppliers are:\nUnique Photo\n\nPixel Connection\n\n
 About Doug\n\nDoug has been shooting professionally and with distinction f
 or over 40 years. His creative approach to photography\, coupled with his 
 ability to see and capture light\, permeates his impressive body of work. 
 His love of photography\, passion for art\, and desire to always be the be
 st that he can be in any field\, has driven him to excel as a photographer
 \, artist and educator\, and fine art craftsman.\n\nDoug’s work has been
  on display in galleries in New York City\, Washington DC Smithsonian\, Bu
 ffalo\, PA and Toronto\, including the world-famous Ontario Art Gallery. H
 is numerous gallery showings highlight his perceptive and compelling work.
  Doug is gifted in his ability to view a subject\, see and distinguish sli
 ght nuances in light and tonal variations\, capture that vision through ph
 otography and the capabilities of the camera\, and express his vision thro
 ugh printed work.\n\nHis work has been seen in dozens of magazines and thr
 oughout the web on commercial sites\, and has received numerous national a
 nd international awards including the Kodak award for image excellence. Hi
 s mainstay has been his commercial work with attorneys\, real-estate devel
 opers\, physicians\, product developers\, recording companies\, modeling a
 gencies including the prestigious Wilhelmina Agency of New York and Silver
  Modeling agency of New York. As well as maintaining a high volume high sc
 hool senior business and portraiture studio.\n\nThrough his constant searc
 h for the very best technology\, new techniques and tools\, evolving style
 s\, and an idealistic view of the world\, Doug has become a sought-after e
 ducator. As a consummate instructor\, Doug works hard to share his knowled
 ge with fellow photographers. Photographers look to him to expand their kn
 owledge\, increase their sense of light\, create that which the camera is 
 incapable of perceiving\, and explore the world as an artist. Doug has tau
 ght at professional photography seminars throughout the United States and 
 Canada. He teaches classes in Adobe® Photoshop® and Lightroom®\, post p
 roduction applications\, high dynamic range\, painter\, and studio portrai
 ture. His passion for sharing his knowledge is tempered only by the hours 
 of the day and how much can be accomplished in one lifetime.\n\nAs you exp
 lore Doug’s work\, you will surely see—and feel—the emotion and pass
 ion that he captures in every image\, whether in his dreamscape series or 
 iconic architectural images. As a sought-after judge of photographic image
 ry\, Owner of AMP Studios\, a successful commercial portrait and fashion p
 hotography studio in North Tonawanda\, New York\, Doug often says that if 
 an image does not exude passion and does not evoke a sense of delight\, so
 rrow\, sadness\, happiness\, or desire\, the image lacks the ability to be
  a sustainable work of art.\n\nDoug is a master instructor and photographe
 r with over 40 years experience. Consider arranging for private lessons fr
 om Doug Hansgate. Doug is an extraordinary teacher and has a gift for simp
 lifying things that leads to fast improvement.\n“Light is all we capture
  as photographer\, a master photographer has honed his skill to the point 
 where the subtleties of light and shadow tell a story that has impact and 
 drama”\n\n~ Doug Hansgate\n\n            
END:VEVENT
BEGIN:VTIMEZONE
TZID:America/New_York
X-LIC-LOCATION:America/New_York
BEGIN:STANDARD
DTSTART:20241103T010000
TZOFFSETFROM:-0400
TZOFFSETTO:-0500
TZNAME:EST
END:STANDARD
END:VTIMEZONE
END:VCALENDAR