BEGIN:VCALENDAR
VERSION:2.0
PRODID:-//wp-events-plugin.com//7.2.3.1//EN
TZID:America/New_York
X-WR-TIMEZONE:America/New_York
BEGIN:VEVENT
UID:274@clevelandphoto.org
DTSTART;TZID=America/New_York:20240223T193000
DTEND;TZID=America/New_York:20240223T210000
DTSTAMP:20231006T160455Z
URL:https://www.clevelandphoto.org/events/diy-photography-accessories-on-a
 -budget-live-zoom-event-clubhouse-will-be-open/
SUMMARY:DIY Photography Accessories on a Budget Live Zoom Event Clubhouse w
 ill be open
DESCRIPTION: DIY Photography Accessories on a Budget\n\n \n\n\nJoe Edelma
 n is an award-winning photographer\, author\, and photo educator.\n\nHis e
 ducational mission: "To help photographers to develop a solid understandin
 g of the HOWS and WHYS behind creating great photographs."\n\nJoe is honor
 ed to hold the title of Photographic Craftsman\, a designation given to th
 ose who have met the standards of excellence set by the Professional Photo
 graphers of America in recognition of service to the photographic professi
 on as an orator\, author\, and mentor.\n\nHe takes great pride in sharing 
 his experience as the host of the weekly The LAST FRAME Live a 60-minute p
 hotography Livestream that appears on YouTube. His channel boasts 300 + vi
 deos viewed over 11.8 million times by more than 180\,000 subscribers in 1
 14 countries.\n\nJoe has also earned a reputation as a lively and popular 
 presenter at photography conferences and is frequently featured on major p
 hotography news websites and podcasts.\n\nFrom his start as a newspaper ph
 otojournalist while still in high school to his work today photographing a
 ll types of people\, his photographs have been published internationally i
 n magazines like Maxim\, Cosmopolitan\, Get Fit\, and Shape\, to name but 
 a few. He has been called upon to complete assignments for the New York Ti
 mes and The Los Angeles Times and has serviced commercial advertising clie
 nts from all over the United States.\n\nWebsite: https://www.joeedelman.c
 om YouTube Channel: https://www.youtube.com/@thejoeedelman\n\n\n
END:VEVENT
BEGIN:VTIMEZONE
TZID:America/New_York
X-LIC-LOCATION:America/New_York
BEGIN:STANDARD
DTSTART:20231105T010000
TZOFFSETFROM:-0400
TZOFFSETTO:-0500
TZNAME:EST
END:STANDARD
END:VTIMEZONE
END:VCALENDAR