BEGIN:VCALENDAR
VERSION:2.0
PRODID:-//wp-events-plugin.com//7.2.3.1//EN
TZID:America/New_York
X-WR-TIMEZONE:America/New_York
BEGIN:VEVENT
UID:339@clevelandphoto.org
DTSTART;TZID=America/New_York:20240413T220000
DTEND;TZID=America/New_York:20240413T220000
DTSTAMP:20240323T130232Z
URL:https://www.clevelandphoto.org/events/deadline-to-submit-images-for-po
 rter-library-exhibit/
SUMMARY:Deadline to submit images for Porter Library Exhibit
DESCRIPTION:Go to Shutter Score to submit up to 2 images for the exhibit ti
 tled "Capturing the Elements".  Deadline is 10 pm.  See exhibit page for
  details!
END:VEVENT
BEGIN:VTIMEZONE
TZID:America/New_York
X-LIC-LOCATION:America/New_York
BEGIN:DAYLIGHT
DTSTART:20240310T030000
TZOFFSETFROM:-0500
TZOFFSETTO:-0400
TZNAME:EDT
END:DAYLIGHT
END:VTIMEZONE
END:VCALENDAR