BEGIN:VCALENDAR
VERSION:2.0
PRODID:-//wp-events-plugin.com//7.2.3.1//EN
TZID:America/New_York
X-WR-TIMEZONE:America/New_York
BEGIN:VEVENT
UID:67@clevelandphoto.org
DTSTART;TZID=America/New_York:20231108T210000
DTEND;TZID=America/New_York:20231108T210000
DTSTAMP:20230310T014522Z
URL:https://www.clevelandphoto.org/events/deadline-to-enter-the-nov-17-cre
 ative-pictorial-competition/
SUMMARY:Deadline to Enter the Nov. 17 Creative & Pictorial Competition
DESCRIPTION:The deadline to enter this November 17 projection competition i
 s 9PM tonight. All entries should be through ShutterScore.
END:VEVENT
BEGIN:VTIMEZONE
TZID:America/New_York
X-LIC-LOCATION:America/New_York
BEGIN:STANDARD
DTSTART:20231105T010000
TZOFFSETFROM:-0400
TZOFFSETTO:-0500
TZNAME:EST
END:STANDARD
END:VTIMEZONE
END:VCALENDAR