BEGIN:VCALENDAR
VERSION:2.0
PRODID:-//wp-events-plugin.com//7.2.3.1//EN
TZID:America/New_York
X-WR-TIMEZONE:America/New_York
BEGIN:VEVENT
UID:75@clevelandphoto.org
DTSTART;TZID=America/New_York:20240228T210000
DTEND;TZID=America/New_York:20240228T210000
DTSTAMP:20230310T020439Z
URL:https://www.clevelandphoto.org/events/deadline-to-enter-the-march-8-b-
 competition/
SUMMARY:Deadline to Enter the March 8 "B" Competition
DESCRIPTION:The deadline to enter this March 8 projection competition is 9P
 M tonight. All entries should be through ShutterScore.
END:VEVENT
BEGIN:VTIMEZONE
TZID:America/New_York
X-LIC-LOCATION:America/New_York
BEGIN:STANDARD
DTSTART:20231105T010000
TZOFFSETFROM:-0400
TZOFFSETTO:-0500
TZNAME:EST
END:STANDARD
END:VTIMEZONE
END:VCALENDAR