BEGIN:VCALENDAR
VERSION:2.0
PRODID:-//wp-events-plugin.com//7.2.3.1//EN
TZID:America/New_York
X-WR-TIMEZONE:America/New_York
BEGIN:VEVENT
UID:21@clevelandphoto.org
DTSTART;TZID=America/New_York:20230222T210000
DTEND;TZID=America/New_York:20230222T210000
DTSTAMP:20230220T212606Z
URL:https://www.clevelandphoto.org/events/deadline-to-enter-the-march-3-cr
 eative-pictorial-competition/
SUMMARY:Deadline to Enter the March 3 Creative & Pictorial Competition
DESCRIPTION:Tonight at 9 pm is the deadline to submit digital images for th
 e March 3 Creative and Pictorial Competition using ShutterScore.\n\nEmail 
 links for ShutterScore have been sent - if you did not receive one\, pleas
 e  email us for a prompt response.
END:VEVENT
BEGIN:VTIMEZONE
TZID:America/New_York
X-LIC-LOCATION:America/New_York
BEGIN:STANDARD
DTSTART:20221106T010000
TZOFFSETFROM:-0400
TZOFFSETTO:-0500
TZNAME:EST
END:STANDARD
END:VTIMEZONE
END:VCALENDAR