BEGIN:VCALENDAR
VERSION:2.0
PRODID:-//wp-events-plugin.com//7.2.3.1//EN
TZID:America/New_York
X-WR-TIMEZONE:America/New_York
BEGIN:VEVENT
UID:68@clevelandphoto.org
DTSTART;TZID=America/New_York:20231227T210000
DTEND;TZID=America/New_York:20231227T210000
DTSTAMP:20230310T014641Z
URL:https://www.clevelandphoto.org/events/deadline-to-enter-the-january-5-
 people-pictorial-competition/
SUMMARY:Deadline to Enter the January 5 People & Pictorial Competition
DESCRIPTION:The deadline to enter this January 5 projection competition is 
 9PM tonight. All entries should be through ShutterScore.
END:VEVENT
BEGIN:VTIMEZONE
TZID:America/New_York
X-LIC-LOCATION:America/New_York
BEGIN:STANDARD
DTSTART:20231105T010000
TZOFFSETFROM:-0400
TZOFFSETTO:-0500
TZNAME:EST
END:STANDARD
END:VTIMEZONE
END:VCALENDAR