BEGIN:VCALENDAR
VERSION:2.0
PRODID:-//wp-events-plugin.com//7.2.3.1//EN
TZID:America/New_York
X-WR-TIMEZONE:America/New_York
BEGIN:VEVENT
UID:138@clevelandphoto.org
DTSTART;TZID=America/New_York:20230802T210000
DTEND;TZID=America/New_York:20230802T210000
DTSTAMP:20230703T171542Z
URL:https://www.clevelandphoto.org/events/deadline-to-enter-the-august-2-c
 reative-pictorial-competition/
SUMMARY:Deadline to Enter the August 11 Creative & Pictorial Competition
DESCRIPTION:The deadline to enter this August 11 projection competition is 
 9PM tonight. All entries should be through ShutterScore.
END:VEVENT
BEGIN:VTIMEZONE
TZID:America/New_York
X-LIC-LOCATION:America/New_York
BEGIN:DAYLIGHT
DTSTART:20230312T030000
TZOFFSETFROM:-0500
TZOFFSETTO:-0400
TZNAME:EDT
END:DAYLIGHT
END:VTIMEZONE
END:VCALENDAR