BEGIN:VCALENDAR
VERSION:2.0
PRODID:-//wp-events-plugin.com//7.2.3.1//EN
TZID:America/New_York
X-WR-TIMEZONE:America/New_York
BEGIN:VEVENT
UID:831@clevelandphoto.org
DTSTART;TZID=America/New_York:20260802T210000
DTEND;TZID=America/New_York:20260802T210000
DTSTAMP:20251118T211319Z
URL:https://www.clevelandphoto.org/events/deadline-to-enter-september-26-n
 ature-pictorial-competition-projection-2/
SUMMARY:Deadline to Enter August 14  Nature & Pictorial Competition (Projec
 tion)
DESCRIPTION:The deadline to enter this August 14 projection competition is 
 9PM tonight. All entries should be through ShutterScore.
END:VEVENT
BEGIN:VTIMEZONE
TZID:America/New_York
X-LIC-LOCATION:America/New_York
BEGIN:DAYLIGHT
DTSTART:20260308T030000
TZOFFSETFROM:-0500
TZOFFSETTO:-0400
TZNAME:EDT
END:DAYLIGHT
END:VTIMEZONE
END:VCALENDAR