BEGIN:VCALENDAR
VERSION:2.0
PRODID:-//wp-events-plugin.com//7.2.3.1//EN
TZID:America/New_York
X-WR-TIMEZONE:America/New_York
BEGIN:VEVENT
UID:361@clevelandphoto.org
DTSTART;TZID=America/New_York:20240828T210000
DTEND;TZID=America/New_York:20240828T210000
DTSTAMP:20240720T195820Z
URL:https://www.clevelandphoto.org/events/deadline-to-enter-sept-6-creativ
 e-pictorial-competition-projection/
SUMMARY:Deadline to Enter September 6 Creative & Pictorial Competition (Pro
 jection)
DESCRIPTION:The deadline to enter this September 6 projection competition i
 s 9PM tonight. This deadline will be strictly enforced. All entries should
  be through ShutterScore.
END:VEVENT
BEGIN:VTIMEZONE
TZID:America/New_York
X-LIC-LOCATION:America/New_York
BEGIN:DAYLIGHT
DTSTART:20240310T030000
TZOFFSETFROM:-0500
TZOFFSETTO:-0400
TZNAME:EDT
END:DAYLIGHT
END:VTIMEZONE
END:VCALENDAR