BEGIN:VCALENDAR
VERSION:2.0
PRODID:-//wp-events-plugin.com//7.2.3.1//EN
TZID:America/New_York
X-WR-TIMEZONE:America/New_York
BEGIN:VEVENT
UID:591@clevelandphoto.org
DTSTART;TZID=America/New_York:20250924T210000
DTEND;TZID=America/New_York:20250924T210000
DTSTAMP:20241230T071448Z
URL:https://www.clevelandphoto.org/events/deadline-to-enter-october-3-b-co
 mpetition-projection/
SUMMARY:Deadline to Enter October 3 "B" Competition (Projection)
DESCRIPTION:The deadline to enter this October 3 projection competition is 
 9PM tonight. All entries should be through ShutterScore.
END:VEVENT
BEGIN:VTIMEZONE
TZID:America/New_York
X-LIC-LOCATION:America/New_York
BEGIN:DAYLIGHT
DTSTART:20250309T030000
TZOFFSETFROM:-0500
TZOFFSETTO:-0400
TZNAME:EDT
END:DAYLIGHT
END:VTIMEZONE
END:VCALENDAR