BEGIN:VCALENDAR
VERSION:2.0
PRODID:-//wp-events-plugin.com//7.2.3.1//EN
TZID:America/New_York
X-WR-TIMEZONE:America/New_York
BEGIN:VEVENT
UID:835@clevelandphoto.org
DTSTART;TZID=America/New_York:20270110T210000
DTEND;TZID=America/New_York:20270110T210000
DTSTAMP:20251118T213053Z
URL:https://www.clevelandphoto.org/events/deadline-to-enter-november-7-bla
 ck-and-white-pictorial-competition-projection-2/
SUMMARY:Deadline to Enter January 22 Black and White & Pictorial Competitio
 n (Projection)
DESCRIPTION:The deadline to enter this January 22 projection competition is
  9PM tonight. All entries should be through ShutterScore.
END:VEVENT
BEGIN:VTIMEZONE
TZID:America/New_York
X-LIC-LOCATION:America/New_York
BEGIN:STANDARD
DTSTART:20261101T010000
TZOFFSETFROM:-0400
TZOFFSETTO:-0500
TZNAME:EST
END:STANDARD
END:VTIMEZONE
END:VCALENDAR