BEGIN:VCALENDAR
VERSION:2.0
PRODID:-//wp-events-plugin.com//7.2.3.1//EN
TZID:America/New_York
X-WR-TIMEZONE:America/New_York
BEGIN:VEVENT
UID:357@clevelandphoto.org
DTSTART;TZID=America/New_York:20240717T210000
DTEND;TZID=America/New_York:20240717T210000
DTSTAMP:20240717T013527Z
URL:https://www.clevelandphoto.org/events/deadline-to-enter-nature-pictori
 al-competition-projection/
SUMMARY:Deadline to Enter July 26 Nature & Pictorial Competition (Projectio
 n)
DESCRIPTION:The deadline to enter this July 26 projection competition is 9P
 M tonight. This deadline will be strictly enforced. All entries should be 
 through ShutterScore.
END:VEVENT
BEGIN:VTIMEZONE
TZID:America/New_York
X-LIC-LOCATION:America/New_York
BEGIN:DAYLIGHT
DTSTART:20240310T030000
TZOFFSETFROM:-0500
TZOFFSETTO:-0400
TZNAME:EDT
END:DAYLIGHT
END:VTIMEZONE
END:VCALENDAR