BEGIN:VCALENDAR
VERSION:2.0
PRODID:-//wp-events-plugin.com//7.2.3.1//EN
TZID:America/New_York
X-WR-TIMEZONE:America/New_York
BEGIN:VEVENT
UID:587@clevelandphoto.org
DTSTART;TZID=America/New_York:20250115T210000
DTEND;TZID=America/New_York:20250115T210000
DTSTAMP:20241229T174643Z
URL:https://www.clevelandphoto.org/events/deadline-to-enter-january-24-nat
 ure-pictorial-competition-projection-2/
SUMMARY:Deadline to Enter January 24 Nature & Pictorial Competition (Projec
 tion)
DESCRIPTION:The deadline to enter this January 24 projection competition is
  9PM tonight. All entries should be through ShutterScore.
END:VEVENT
BEGIN:VTIMEZONE
TZID:America/New_York
X-LIC-LOCATION:America/New_York
BEGIN:STANDARD
DTSTART:20241103T010000
TZOFFSETFROM:-0400
TZOFFSETTO:-0500
TZNAME:EST
END:STANDARD
END:VTIMEZONE
END:VCALENDAR