BEGIN:VCALENDAR
VERSION:2.0
PRODID:-//wp-events-plugin.com//7.2.3.1//EN
TZID:America/New_York
X-WR-TIMEZONE:America/New_York
BEGIN:VEVENT
UID:853@clevelandphoto.org
DTSTART;TZID=America/New_York:20270110T210000
DTEND;TZID=America/New_York:20270110T210000
DTSTAMP:20251118T173745Z
URL:https://www.clevelandphoto.org/events/deadline-to-enter-january-16-pho
 tojournalism-night-2/
SUMMARY:Deadline to Enter January 15 Photojournalism Night
DESCRIPTION:The deadline to enter this January 15 projection event is 9PM t
 onight. All entries should be through ShutterScore.
END:VEVENT
BEGIN:VTIMEZONE
TZID:America/New_York
X-LIC-LOCATION:America/New_York
BEGIN:STANDARD
DTSTART:20261101T010000
TZOFFSETFROM:-0400
TZOFFSETTO:-0500
TZNAME:EST
END:STANDARD
END:VTIMEZONE
END:VCALENDAR