BEGIN:VCALENDAR
VERSION:2.0
PRODID:-//wp-events-plugin.com//7.2.3.1//EN
TZID:America/New_York
X-WR-TIMEZONE:America/New_York
BEGIN:VEVENT
UID:845@clevelandphoto.org
DTSTART;TZID=America/New_York:20260927T210000
DTEND;TZID=America/New_York:20260927T210000
DTSTAMP:20251118T171802Z
URL:https://www.clevelandphoto.org/events/deadline-to-enter-february-6-bac
 k-and-white-pictorial-competition-projection-2/
SUMMARY:Deadline to Enter October 9 Back and White & Pictorial Competition 
 (Projection)
DESCRIPTION:The deadline to enter this October 9 projection competition is 
 9PM tonight. All entries should be through ShutterScore.
END:VEVENT
BEGIN:VTIMEZONE
TZID:America/New_York
X-LIC-LOCATION:America/New_York
BEGIN:DAYLIGHT
DTSTART:20260308T030000
TZOFFSETFROM:-0500
TZOFFSETTO:-0400
TZNAME:EDT
END:DAYLIGHT
END:VTIMEZONE
END:VCALENDAR