BEGIN:VCALENDAR
VERSION:2.0
PRODID:-//wp-events-plugin.com//7.2.3.1//EN
TZID:America/New_York
X-WR-TIMEZONE:America/New_York
BEGIN:VEVENT
UID:371@clevelandphoto.org
DTSTART;TZID=America/New_York:20250226T210000
DTEND;TZID=America/New_York:20250226T210000
DTSTAMP:20240530T025753Z
URL:https://www.clevelandphoto.org/events/deadline-to-enter-february-28-ph
 otojournalism-night/
SUMMARY:Deadline to Enter February 28 Photojournalism Night
DESCRIPTION:The deadline to enter this February 28 projection event is 9PM 
 tonight. All entries should be through ShutterScore.
END:VEVENT
BEGIN:VTIMEZONE
TZID:America/New_York
X-LIC-LOCATION:America/New_York
BEGIN:STANDARD
DTSTART:20241103T010000
TZOFFSETFROM:-0400
TZOFFSETTO:-0500
TZNAME:EST
END:STANDARD
END:VTIMEZONE
END:VCALENDAR