BEGIN:VCALENDAR
VERSION:2.0
PRODID:-//wp-events-plugin.com//7.2.3.1//EN
TZID:America/New_York
X-WR-TIMEZONE:America/New_York
BEGIN:VEVENT
UID:611@clevelandphoto.org
DTSTART;TZID=America/New_York:20260218T210000
DTEND;TZID=America/New_York:20260218T210000
DTSTAMP:20250113T011022Z
URL:https://www.clevelandphoto.org/events/deadline-to-enter-february-27-cr
 eative-pictorial-competition-projection/
SUMMARY:Deadline to Enter February 27 Creative & Pictorial Competition (Pro
 jection)
DESCRIPTION:The deadline to enter this February 27 projection competition i
 s 9PM tonight. All entries should be through ShutterScore.
END:VEVENT
BEGIN:VTIMEZONE
TZID:America/New_York
X-LIC-LOCATION:America/New_York
BEGIN:STANDARD
DTSTART:20251102T010000
TZOFFSETFROM:-0400
TZOFFSETTO:-0500
TZNAME:EST
END:STANDARD
END:VTIMEZONE
END:VCALENDAR