BEGIN:VCALENDAR
VERSION:2.0
PRODID:-//wp-events-plugin.com//7.2.3.1//EN
TZID:America/New_York
X-WR-TIMEZONE:America/New_York
BEGIN:VEVENT
UID:355@clevelandphoto.org
DTSTART;TZID=America/New_York:20241009T210000
DTEND;TZID=America/New_York:20241009T210000
DTSTAMP:20240529T022244Z
URL:https://www.clevelandphoto.org/events/deadline-to-enter-creative-picto
 rial-projection/
SUMMARY:Deadline to Enter October 18 People & Pictorial Competition (Projec
 tion)
DESCRIPTION:The deadline to enter this October 18 projection competition is
  9PM tonight. All entries should be through ShutterScore.
END:VEVENT
BEGIN:VTIMEZONE
TZID:America/New_York
X-LIC-LOCATION:America/New_York
BEGIN:DAYLIGHT
DTSTART:20240310T030000
TZOFFSETFROM:-0500
TZOFFSETTO:-0400
TZNAME:EDT
END:DAYLIGHT
END:VTIMEZONE
END:VCALENDAR