BEGIN:VCALENDAR
VERSION:2.0
PRODID:-//wp-events-plugin.com//7.2.3.1//EN
TZID:America/New_York
X-WR-TIMEZONE:America/New_York
BEGIN:VEVENT
UID:849@clevelandphoto.org
DTSTART;TZID=America/New_York:20260802T210000
DTEND;TZID=America/New_York:20260802T210000
DTSTAMP:20251118T173042Z
URL:https://www.clevelandphoto.org/events/deadline-to-enter-august-7-photo
 journalism-night/
SUMMARY:Deadline to Enter August 7 Photojournalism Night
DESCRIPTION:The deadline to enter this August 7 projection event is 9PM ton
 ight. All entries should be through ShutterScore.
END:VEVENT
BEGIN:VTIMEZONE
TZID:America/New_York
X-LIC-LOCATION:America/New_York
BEGIN:DAYLIGHT
DTSTART:20260308T030000
TZOFFSETFROM:-0500
TZOFFSETTO:-0400
TZNAME:EDT
END:DAYLIGHT
END:VTIMEZONE
END:VCALENDAR