BEGIN:VCALENDAR
VERSION:2.0
PRODID:-//wp-events-plugin.com//7.2.3.1//EN
TZID:America/New_York
X-WR-TIMEZONE:America/New_York
BEGIN:VEVENT
UID:899@clevelandphoto.org
DTSTART;TZID=America/New_York:20260517T080000
DTEND;TZID=America/New_York:20260517T100000
DTSTAMP:20260301T192559Z
URL:https://www.clevelandphoto.org/events/david-leach-research-station-fie
 ld-trip/
SUMMARY:David Leach Research Station Field Trip
DESCRIPTION:\n\nDavid Leach Research Station Field Trip \n\nFor all you blo
 ssom and floral photogs we have an amazing field trip in store for members
  only.\n\nWhen: May 17 2026 8am\n\nWhere:\n\nDavid Leach Research Station\
 n\n1890 Hubbard Rd\n\nMadison\, OH 44057\n\n&nbsp\;\n\nWhy: https://holden
 fg.org/david-g-leach-research-station/\n\nThe Leach Research Station was a
  gift to Holden from Dr. David Leach\, a world authority on genus Rhododen
 dron. Located in Madison\, Ohio\, this 30-acre\, hidden gem is heavy on re
 search and stunningly beautiful.\n\nThe largest collection of rhododendron
 s and azaleas in one place in Ohio. You can bring whatever you need for ph
 otographs and yes that includes tripods.\n\nA visual buffet that will take
  your breath away.\n\nConnor Ryan will meet us there to give a short intro
  and information.\n\nYour Investment: $20\n\nMembers can begin registering
  for this field trip at 7PM April 16 2026 with this link:***\n\nhttps://ww
 w.clevelandphoto.org/programs/field-trips/leach-research-station/\n\nYou p
 ayment will reserve your place.\n\nMembers only! There is a limit of 50 pa
 rticipants.\n\nRegistration is non-refundable\n\nRegistration starts April
  16 2026\n\n(EMAILS WILL BE SENT WITH NOTIFICATION)\n\n&nbsp\;\n\nThis tri
 p will be held rain or shine.\n\n&nbsp\;\n\nOn the day of the event\, you'
 ll check in with us .Please visit the CPS calendar webpage for additional 
 info\n\n&nbsp\;\n\nPLEASE READ: If you would like to attend and it is fill
 ed up\, please email to be added to the waitlist: fieldtrips@clevelandpho
 to.org\n\n&nbsp\;\n\nAs with all field trips\, CPS cannot be held respons
 ible for any accidents or injuries - please enjoy yourself\, but participa
 te at your own risk.\n\n&nbsp\;\n\nQuestions: fieldtrips@clevelandphoto.or
 g\n\n440 570 5968\n\n&nbsp\;\n\n&nbsp\;\n\n&nbsp\;
END:VEVENT
BEGIN:VTIMEZONE
TZID:America/New_York
X-LIC-LOCATION:America/New_York
BEGIN:DAYLIGHT
DTSTART:20260308T030000
TZOFFSETFROM:-0500
TZOFFSETTO:-0400
TZNAME:EDT
END:DAYLIGHT
END:VTIMEZONE
END:VCALENDAR