BEGIN:VCALENDAR
VERSION:2.0
PRODID:-//wp-events-plugin.com//7.2.3.1//EN
TZID:America/New_York
X-WR-TIMEZONE:America/New_York
BEGIN:VEVENT
UID:387@clevelandphoto.org
DTSTART;TZID=America/New_York:20241115T193000
DTEND;TZID=America/New_York:20241115T220000
DTSTAMP:20240613T015947Z
URL:https://www.clevelandphoto.org/events/critique-night-6/
SUMMARY:Critique Night
DESCRIPTION:Join us for another CPS Critique Night. No judging allowed!!! P
 anel members will be doing critique of members submitted images while real
  time edits are performed on the screen. Email up to three images to info@
 clevelandphoto.org.
END:VEVENT
BEGIN:VTIMEZONE
TZID:America/New_York
X-LIC-LOCATION:America/New_York
BEGIN:STANDARD
DTSTART:20241103T010000
TZOFFSETFROM:-0400
TZOFFSETTO:-0500
TZNAME:EST
END:STANDARD
END:VTIMEZONE
END:VCALENDAR