BEGIN:VCALENDAR
VERSION:2.0
PRODID:-//wp-events-plugin.com//7.2.3.1//EN
TZID:America/New_York
X-WR-TIMEZONE:America/New_York
BEGIN:VEVENT
UID:702@clevelandphoto.org
DTSTART;TZID=America/New_York:20261016T193000
DTEND;TZID=America/New_York:20261016T220000
DTSTAMP:20250509T173654Z
URL:https://www.clevelandphoto.org/events/critique-night-11/
SUMMARY:Critique Night
DESCRIPTION:Join us for another CPS Critique Night. No judging allowed!!! P
 anel members will be doing critique of members submitted images while real
  time edits are performed on the screen. Email up to three images to info@
 clevelandphoto.org.
END:VEVENT
BEGIN:VTIMEZONE
TZID:America/New_York
X-LIC-LOCATION:America/New_York
BEGIN:DAYLIGHT
DTSTART:20260308T030000
TZOFFSETFROM:-0500
TZOFFSETTO:-0400
TZNAME:EDT
END:DAYLIGHT
END:VTIMEZONE
END:VCALENDAR