BEGIN:VCALENDAR
VERSION:2.0
PRODID:-//wp-events-plugin.com//7.2.3.1//EN
TZID:America/New_York
X-WR-TIMEZONE:America/New_York
BEGIN:VEVENT
UID:157@clevelandphoto.org
DTSTART;TZID=America/New_York:20230818T193000
DTEND;TZID=America/New_York:20230818T210000
DTSTAMP:20230721T001719Z
URL:https://www.clevelandphoto.org/events/creating-great-captures-at-event
 s-this-is-for-you-cps-community-volunteers/
SUMMARY:LIVE LECTURE - Creating Great Captures at Events (This is for you\,
  CPS Community  Volunteers!)
DESCRIPTION:&nbsp\;\n\nIn this presentation\, Kolman Rosenberg will talk ab
 out and give examples of how to take compelling and dynamic photos at many
  different types of events that our CPS members/volunteers find themselves
  at. Turn those boring static snapshots into active storytelling images th
 at convey feeling and a real sense of what the event is all about.\n\n&nbs
 p\;\nKolman Rosenberg is a freelance editorial\, documentary and fine art 
 photographer who resides and works in Mentor\, OH.  He has won many awar
 ds for his photography and has had his work published in a number of books
 \, magazines and on TV.  Kolman also is a board member of the Cleveland 
 Photographic Society and teaches several classes in the CPS Fundamentals o
 f Good Photography school. He also teaches digital photography and photo e
 diting at Cuyahoga Community College in their Community Education departme
 nt.\n\n\n&nbsp\;
END:VEVENT
BEGIN:VTIMEZONE
TZID:America/New_York
X-LIC-LOCATION:America/New_York
BEGIN:DAYLIGHT
DTSTART:20230312T030000
TZOFFSETFROM:-0500
TZOFFSETTO:-0400
TZNAME:EDT
END:DAYLIGHT
END:VTIMEZONE
END:VCALENDAR