BEGIN:VCALENDAR
VERSION:2.0
PRODID:-//wp-events-plugin.com//7.2.3.1//EN
TZID:America/New_York
X-WR-TIMEZONE:America/New_York
BEGIN:VEVENT
UID:136@clevelandphoto.org
DTSTART;TZID=America/New_York:20230826T160000
DTEND;TZID=America/New_York:20230826T200000
DTSTAMP:20230620T232956Z
URL:https://www.clevelandphoto.org/events/cps-summer-potluck-party/
SUMMARY:CPS Summer Potluck Party
DESCRIPTION:Join us for an outdoor party at the CPS Clubhouse to celebrate 
 the summer. There will be food and games and lots of fun. RSVP to info@cle
 velandphoto.org if you would like to attend and let us know if you are bri
 nging an appetizer\, main course or dessert. Instead of bringing food\, yo
 u can pay $15/person to help cover the food. More details to follow.
END:VEVENT
BEGIN:VTIMEZONE
TZID:America/New_York
X-LIC-LOCATION:America/New_York
BEGIN:DAYLIGHT
DTSTART:20230312T030000
TZOFFSETFROM:-0500
TZOFFSETTO:-0400
TZNAME:EDT
END:DAYLIGHT
END:VTIMEZONE
END:VCALENDAR