BEGIN:VCALENDAR
VERSION:2.0
PRODID:-//wp-events-plugin.com//7.2.3.1//EN
TZID:America/New_York
X-WR-TIMEZONE:America/New_York
BEGIN:VEVENT
UID:658@clevelandphoto.org
DTSTART;TZID=America/New_York:20250823T160000
DTEND;TZID=America/New_York:20250823T200000
DTSTAMP:20250731T150657Z
URL:https://www.clevelandphoto.org/events/cps-summer-picnic/
SUMMARY:CPS Summer Picnic
DESCRIPTION:Join us on August 23rd for our annual CPS picnic\, where we’l
 l have food\, fun\, fellowship\, and games from 4:00 PM to 8:00 PM.  This
  year\, we are charging $15 per person.  We are providing all of the food
  and drinks. This includes your usual picnic sides like baked beans\, but 
 most importantly\, hamburgers and hot dogs cooked on our very own CPS gril
 l!  While not required\, if somebody brought in desserts\, we certainly w
 ouldn't turn them away.  This event is also open to non-members\, so you 
 can bring friends\, family\, or maybe your mentees.  We just ask that you
  register and pay before August 21st through this link so we know how much
  food to buy. https://clevelandphoto.org/picnic.  We will have a tent lik
 e last year in the event of rain.\n\nWe hope to see you there!
END:VEVENT
BEGIN:VTIMEZONE
TZID:America/New_York
X-LIC-LOCATION:America/New_York
BEGIN:DAYLIGHT
DTSTART:20250309T030000
TZOFFSETFROM:-0500
TZOFFSETTO:-0400
TZNAME:EDT
END:DAYLIGHT
END:VTIMEZONE
END:VCALENDAR