BEGIN:VCALENDAR
VERSION:2.0
PRODID:-//wp-events-plugin.com//7.2.3.1//EN
TZID:America/New_York
X-WR-TIMEZONE:America/New_York
BEGIN:VEVENT
UID:633@clevelandphoto.org
DTSTART;TZID=America/New_York:20250213T190000
DTEND;TZID=America/New_York:20250213T220000
DTSTAMP:20250301T153820Z
URL:https://www.clevelandphoto.org/events/cps-board-meeting-2025-02-13/
SUMMARY:CPS Board Meeting
DESCRIPTION:CPS holds its Board Meetings every two months at the CPS clubho
 use.
END:VEVENT
BEGIN:VTIMEZONE
TZID:America/New_York
X-LIC-LOCATION:America/New_York
BEGIN:STANDARD
DTSTART:20241103T010000
TZOFFSETFROM:-0400
TZOFFSETTO:-0500
TZNAME:EST
END:STANDARD
END:VTIMEZONE
END:VCALENDAR