BEGIN:VCALENDAR
VERSION:2.0
PRODID:-//wp-events-plugin.com//7.2.3.1//EN
TZID:America/New_York
X-WR-TIMEZONE:America/New_York
BEGIN:VEVENT
UID:377@clevelandphoto.org
DTSTART;TZID=America/New_York:20240824T160000
DTEND;TZID=America/New_York:20240824T200000
DTSTAMP:20240607T125544Z
URL:https://www.clevelandphoto.org/events/cps-annual-summer-barbeque/
SUMMARY:CPS Annual Summer Barbeque
DESCRIPTION:Join us for our Annual CPS Barbeque and Cookout. Games\, food\,
  prizes and a ton of fun. Don't miss it. More information to follow.
END:VEVENT
BEGIN:VTIMEZONE
TZID:America/New_York
X-LIC-LOCATION:America/New_York
BEGIN:DAYLIGHT
DTSTART:20240310T030000
TZOFFSETFROM:-0500
TZOFFSETTO:-0400
TZNAME:EDT
END:DAYLIGHT
END:VTIMEZONE
END:VCALENDAR