BEGIN:VCALENDAR
VERSION:2.0
PRODID:-//wp-events-plugin.com//7.2.3.1//EN
TZID:America/New_York
X-WR-TIMEZONE:America/New_York
BEGIN:VEVENT
UID:772@clevelandphoto.org
DTSTART;TZID=America/New_York:20260417T193000
DTEND;TZID=America/New_York:20260417T193000
DTSTAMP:20250716T224835Z
URL:https://www.clevelandphoto.org/events/cps-annual-meeting-and-election-
 of-officers-and-board-members-3/
SUMMARY:CPS Annual Meeting and Election of Officers and Board Members
DESCRIPTION:
END:VEVENT
BEGIN:VTIMEZONE
TZID:America/New_York
X-LIC-LOCATION:America/New_York
BEGIN:DAYLIGHT
DTSTART:20260308T030000
TZOFFSETFROM:-0500
TZOFFSETTO:-0400
TZNAME:EDT
END:DAYLIGHT
END:VTIMEZONE
END:VCALENDAR