BEGIN:VCALENDAR
VERSION:2.0
PRODID:-//wp-events-plugin.com//7.2.3.1//EN
TZID:America/New_York
X-WR-TIMEZONE:America/New_York
BEGIN:VEVENT
UID:614@clevelandphoto.org
DTSTART;TZID=America/New_York:20250204T190000
DTEND;TZID=America/New_York:20250204T210000
DTSTAMP:20250203T173102Z
URL:https://www.clevelandphoto.org/events/cosmic-wonders/
SUMMARY:Cosmic Wonders: Exploring the Hidden Wonders of Our Night Skies
DESCRIPTION:&nbsp\;\n “Cosmic Wonders: Exploring the Hidden Beauty of Ou
 r Night Skies”\nPresenter: Kathy Neugebauer\, photographer and astrophot
 ographer\nDate &amp\; Time: Tuesday\, February 4\, 2025\, at 7:00 PM\n\nLo
 cation: Meetings are held at the Fairview Park Library\, 21255 Lorain Rd\,
  Fairview Park and streamed via Zoom. The Zoom link is at the end of the d
 escription.\nDescription: If it’s not cloudy\, go out at night\, look up
  ... stars\, planets\, the Moon\, constellations ... is what we tend to fo
 cus on\, yet there is so much more. Join us as we view the night skies in 
 a much deeper way. Photographer Kathy Neugebauer will share with us deep-s
 ky images of nebulae\, galaxies and other dark sky phenomena using photo t
 echniques allowing her to bring out the exquisite beauty of our night skie
 s. You will be blown away ... and humbled.\nZoom link: https://us02web.zo
 om.us/j/83876237790?pwd=sA2uSwbfbb14YR38Kg6isPd9TL5IjU.1\nMeeting ID: 838 
 7623 7790 and Passcode: 198365 (if needed)
END:VEVENT
BEGIN:VTIMEZONE
TZID:America/New_York
X-LIC-LOCATION:America/New_York
BEGIN:STANDARD
DTSTART:20241103T010000
TZOFFSETFROM:-0400
TZOFFSETTO:-0500
TZNAME:EST
END:STANDARD
END:VTIMEZONE
END:VCALENDAR