BEGIN:VCALENDAR
VERSION:2.0
PRODID:-//wp-events-plugin.com//7.2.3.1//EN
TZID:America/New_York
X-WR-TIMEZONE:America/New_York
BEGIN:VEVENT
UID:263@clevelandphoto.org
DTSTART;TZID=America/New_York:20231208T193000
DTEND;TZID=America/New_York:20231208T210000
DTSTAMP:20231108T225523Z
URL:https://www.clevelandphoto.org/events/conservation-photography-with-to
 m-croce/
SUMMARY:CONSERVATION PHOTOGRAPHY WITH TOM CROCE: A ZOOM EVENT
DESCRIPTION:CONSERVATION PHOTOGRAPHY WITH TOM CROCE\n\n\nIf you would like 
 to do something more with your photography\, have an issue you care about\
 , and would like to get your work in front of an audience to inspire a pos
 itive change\, Conservation photography may be for you. Join me for a disc
 ussion on Conservation photography. I’ll discuss what it is and how to g
 et started with your own conservation project. Then I will share my latest
  work in progress\, “The Great Plains\, a vanishing eco-system”.\nI am
  origionally from Cleveland\, Ohio and currently resides in Lebanon\, Ohi
 o. I graduated with a BED Degree from Miami University school of Fine Art 
 in 1984 and a Master of Architecture Degree from Washington University in 
 1987.\n\nI started my photography business in 2015\, and in 2021 I became 
 a full time fine art landscape and nature photographer.\nWeb Site: www.to
 mcrocephoto.com\n\n\n\n
END:VEVENT
BEGIN:VTIMEZONE
TZID:America/New_York
X-LIC-LOCATION:America/New_York
BEGIN:STANDARD
DTSTART:20231105T010000
TZOFFSETFROM:-0400
TZOFFSETTO:-0500
TZNAME:EST
END:STANDARD
END:VTIMEZONE
END:VCALENDAR