BEGIN:VCALENDAR
VERSION:2.0
PRODID:-//wp-events-plugin.com//7.2.3.1//EN
TZID:America/New_York
X-WR-TIMEZONE:America/New_York
BEGIN:VEVENT
UID:403@clevelandphoto.org
DTSTART;TZID=America/New_York:20240902T090000
DTEND;TZID=America/New_York:20240902T163000
DTSTAMP:20240717T182537Z
URL:https://www.clevelandphoto.org/events/cleveland-national-airshow-3/
SUMMARY:Cleveland National Airshow
DESCRIPTION:Tickets will go on sale at 5:00 pm on July 19th.  Email with p
 urchase information will be sent to all members when tickets are on sale.
END:VEVENT
BEGIN:VTIMEZONE
TZID:America/New_York
X-LIC-LOCATION:America/New_York
BEGIN:DAYLIGHT
DTSTART:20240310T030000
TZOFFSETFROM:-0500
TZOFFSETTO:-0400
TZNAME:EDT
END:DAYLIGHT
END:VTIMEZONE
END:VCALENDAR