BEGIN:VCALENDAR
VERSION:2.0
PRODID:-//wp-events-plugin.com//7.2.3.1//EN
TZID:America/New_York
X-WR-TIMEZONE:America/New_York
BEGIN:VEVENT
UID:130@clevelandphoto.org
DTSTART;TZID=America/New_York:20230902T093000
DTEND;TZID=America/New_York:20230902T160000
DTSTAMP:20230812T222716Z
URL:https://www.clevelandphoto.org/events/cleveland-national-air-show/
SUMMARY:Cleveland National Air Show - SOLD OUT!
DESCRIPTION:\n\nSATURDAY\, 9/2\, IS SOLD OUT! TICKETS NO LONGER AVAILABLE!\
 n\n&nbsp\;\n\nThe Air Show returns to Cleveland Labor Day weekend\, and CP
 S has again secured front row seats at attractive prices!\n\nItinerary: Th
 e 2023 Air Show offers something for everyone with the return of the U.S. 
 Air Force Thunderbirds\, U.S. Air Force F-22\, USA Golden Knights\, and a 
 variety of other acts in the air and on the ground!\n\n&nbsp\;\n\nTime: Se
 ptember 2 - 4\, 2023 from 9:30 a.m. to 4 p.m. daily (Gates open at 9 a.m. 
 each day)\n\n&nbsp\;\n\nWho: Open to everyone!!!\n\n&nbsp\;\n\nCost: We ar
 e offering 30 box seats for each of the three days again this year. Our pr
 ice for these seats is $36.00. To illustrate what a tremendous value these
  seats offer\, here’s how they compare to the prices offered to the gene
 ral public:\n- An individual box seat purchased thru the Air Show website 
 is $46.\n\n\n\n&nbsp\;\n\nNow that we have your attention\, here’s the d
 etails:\n\n 	Tickets will be made available to CPS members\, students\, an
 d their families ONLY (up to 6 total tickets per person over all three day
 s) until July 29th. If any seats remain beyond that date\, tickets will be
  made available to the general public.\n 	Tickets will ONLY be sold via Pa
 yPal - no cash\, checks or charges by mail or at meetings will be accepted
 . NO exceptions.\n 	All CPS boxes are in the front row of boxes. Each box 
 contains two rows. Tickets will be sold on a first-paid basis\, with the f
 ront row seats in each box sold first\, beginning with the box closest to 
 Show Center.\n 	Parking is NOT included in the cost of the ticket.\n 	Ther
 e are a variety of restrictions and other rules that apply to all Air Show
  patrons. Included in these restrictions is a 'no cooler' provision.\n\nAl
 l ticket purchases through CPS are FINAL. Refunds cannot be issued under a
 ny circumstances - if you find after purchasing that you will be unable to
  attend\, we will try to assist but it will be your responsibility to find
  an alternate buyer.\n\n&nbsp\;\n\nAdditional Information: For more inform
 ation about the event\, visit: Cleveland Air Show\n\nPlease review the air
  show website for the daily schedule for this event. Note that schedules w
 ill not be released until late August and are subject to change right up u
 ntil the time of the performance.\n\nField Trip Sponsor: Barb Cerrito for 
 coordinating this trip!\n\n&nbsp\;\n\nAdditional Questions:  Contact Us (c
 hoose Field Trips from the drop-down)\n\n&nbsp\;\n\nPLEASE NOTE: As with a
 ll field trips\, CPS cannot be held responsible for any accidents or injur
 ies - participate at your own risk.\n\n&nbsp\;
END:VEVENT
BEGIN:VTIMEZONE
TZID:America/New_York
X-LIC-LOCATION:America/New_York
BEGIN:DAYLIGHT
DTSTART:20230312T030000
TZOFFSETFROM:-0500
TZOFFSETTO:-0400
TZNAME:EDT
END:DAYLIGHT
END:VTIMEZONE
END:VCALENDAR