BEGIN:VCALENDAR
VERSION:2.0
PRODID:-//wp-events-plugin.com//7.2.3.1//EN
TZID:America/New_York
X-WR-TIMEZONE:America/New_York
BEGIN:VEVENT
UID:718@clevelandphoto.org
DTSTART;TZID=America/New_York:20250830T090000
DTEND;TZID=America/New_York:20250901T160000
DTSTAMP:20250629T154316Z
URL:https://www.clevelandphoto.org/events/cleveland-national-air-show-labo
 r-day-weekend/
SUMMARY:Cleveland National Air Show Labor Day Weekend
DESCRIPTION:Cleveland National Air Show\n\nLabor Day Weekend\n\n\n\nSaturda
 y August 30 Sunday August 31 &amp\; Monday September 1\n\n&nbsp\;\n\nThe 
 Air Show returns to Cleveland Labor Day weekend\, and CPS has again secure
 d front row seats at attractive prices!\n\n&nbsp\;\n\nThe Air Show is Clev
 eland’s Labor Day Weekend tradition with three days of aerial thrills fe
 aturing the U.S. Air Force Thunderbirds\, military jet demonstrations\, gr
 avity-defying aerobatics\, parachuting and more. But the Air Show is more 
 than just fancy flying - inside the gates\, fans will witness a jet truck 
 race a plane down the runway\, explore interactive exhibits\, tour unique 
 display aircraft and hear incredible narration.\n\n&nbsp\;\n\nRegistration
  opens at 5 PM on July 7th to members only\, plus one guest.\n\n&nbsp\;\n\
 n$36.50\n\nRegistration link\n\nhttps://www.clevelandphoto.org/airshow\n\n
  \n\n 	Registration opens at 5 PM on July 7th to members only\, plus one 
 guest\n 	Registration opens for any remaining tickets to non-members at 5 
 PM on July 28th\n 	Registration closes at 5 PM on August 15th\n 	The cost 
 of the tickets is $36.50\n 	Ticket holders are responsible for their own p
 arking arrangements\n\n&nbsp\;\n\n 	Tickets will be available for pickup a
 t the clubhouse after 6:00 PM on\n 	Friday\, August 22nd\n 	Friday\, Augus
 t 29th\n 	Wednesday\, August 27th\n\n&nbsp\;\n\n&nbsp\;\n\nIf you are inte
 rested in purchasing parking\, please do that directly via the Air Show a
 fter purchasing your seat tickets from Cleveland Photographic Society. Yo
 u can call the Cleveland Air Show office directly at 216.781.0747 (M-F\, 9
 a-5p) and say\, "I purchased [insert day] Sky Box tickets and I would like
  to purchase parking". They will walk through the process with you and you
  will pay them directly. Parking is $35+fees per vehicle and is day specif
 ic\, so if you plan to attend on multiple days be sure to note that. For m
 ore information about parking location &amp\; restrictions\, click HERE 
 and scroll to the Parking section. All parking must be purchased in advanc
 e\, and it does sell out\, so please don't leave this until the last minut
 e. Parking cannot be purchased as a standalone item on the website.\n\n&
 nbsp\;\n\nIN ADDITION\, PLEASE GO TO THE AIRSHOW FOR ADDITIONAL UPDATED IN
 FORMATION. AIRSHOW RECOMMENDS TO HAVE THE PRINTED TICKET OR SCREENSHOT TIC
 KETS ON YOUR PHONE DUE TO ON-SITE INTERNET LIMITATIONS.\n\n&nbsp\;\n\nSatu
 rday August 30 Sunday August 31 &amp\; Monday September 1\n\n9:30 a.m. to
  4 p.m. daily (Gates open at 9 a.m. each day)\n\n&nbsp\;\n-Parking is NOT
  included in the cost of the ticket and must be purchased separately acco
 rding to the above directions.\n \n- There are a variety of restrictions 
 and other rules that apply to all Air Show patrons. Included in these res
 trictions is a "no cooler" provision. Ticket purchasers are encouraged to
  visit the Air Show web site to read and understand the rules and regula
 tions BEFORE purchasing tickets.\n\n- All ticket purchases through CPS a
 re FINAL. Refunds cannot be issued under any circumstances. If you find
  after purchasing that you will be unable to attend\, we will try to assis
 t but it will be your responsibility to find an alternate buyer.\n\n&nbsp\
 ;\n\nNote that physical tickets ARE issued for this event and MUST be pick
 ed-up at the CPS Clubroom at the above dates.\n\nNo day of show pickups.\n
 \nAdditional questions?: fieldtrips@clevelandphoto.org\n\nPLEASE NOTE: A
 s with all field trips\, CPS cannot be held responsible for any accidents 
 or injuries - participate at your own risk.\n\n&nbsp\;
END:VEVENT
BEGIN:VTIMEZONE
TZID:America/New_York
X-LIC-LOCATION:America/New_York
BEGIN:DAYLIGHT
DTSTART:20250309T030000
TZOFFSETFROM:-0500
TZOFFSETTO:-0400
TZNAME:EDT
END:DAYLIGHT
END:VTIMEZONE
END:VCALENDAR