BEGIN:VCALENDAR
VERSION:2.0
PRODID:-//wp-events-plugin.com//7.2.3.1//EN
TZID:America/New_York
X-WR-TIMEZONE:America/New_York
BEGIN:VEVENT
UID:132@clevelandphoto.org
DTSTART;TZID=America/New_York:20230904T093000
DTEND;TZID=America/New_York:20230904T160000
DTSTAMP:20230830T205530Z
URL:https://www.clevelandphoto.org/events/cleveland-national-air-show-3/
SUMMARY:Cleveland National Air Show
DESCRIPTION:\n\nTICKETS NO LONGER AVAILABLE!\n\n&nbsp\;\n\nThe Air Show ret
 urns to Cleveland Labor Day weekend\, and CPS has again secured front row 
 seats at attractive prices!\n\nItinerary: The 2023 Air Show offers somethi
 ng for everyone with the return of the U.S. Air Force Thunderbirds\, U.S. 
 Air Force F-22\, USA Golden Knights\, and a variety of other acts in the a
 ir and on the ground!\n\n&nbsp\;\n\nTime: September 2 - 4\, 2023 from 9:30
  a.m. to 4 p.m. daily (Gates open at 9 a.m. each day).\n\n&nbsp\;\n\nWho: 
 Open to Everyone!\n\n&nbsp\;\n\nCost: We are offering 30 box seats for eac
 h of the three days again this year. Our price for these seats is $36.00. 
 To illustrate what a tremendous value these seats offer\, here’s how the
 y compare to the prices offered to the general public:\n- An individual bo
 x seat purchased thru the Air Show website is $46.\n\nNow that we have you
 r attention\, here’s the details:\n\n 	Tickets will be made available to
  CPS members\, students\, and their families ONLY (up to 6 total tickets p
 er person over all three days) until July 29th. If any seats remain beyond
  that date\, tickets will be made available to the general public.\n 	Tick
 ets will ONLY be sold via PayPal - no cash\, checks or charges by mail or 
 at meetings will be accepted. NO exceptions.\n 	All CPS boxes are in the f
 ront row of boxes. Each box contains two rows. Tickets will be sold on a f
 irst-paid basis\, with the front row seats in each box sold first\, beginn
 ing with the box closest to Show Center.\n 	Parking is NOT included in the
  cost of the ticket.\n 	There are a variety of restrictions and other rule
 s that apply to all Air Show patrons. Included in these restrictions is a 
 'no cooler' provision.\n\nAll ticket purchases through CPS are FINAL. Refu
 nds cannot be issued under any circumstances - if you find after purchasin
 g that you will be unable to attend\, we will try to assist but it will be
  your responsibility to find an alternate buyer.\n\n&nbsp\;\n\nAdditional 
 Information: For more information about the event\, visit: Cleveland Air S
 how\n\nPlease review the air show website for the daily schedule for this 
 event. Note that schedules will not be released until late August and are 
 subject to change right up until the time of the performance.\n\nField Tri
 p Sponsor: Barb Cerrito for coordinating this trip!\n\n&nbsp\;\n\nAddition
 al Questions:  Contact Us (choose Field Trips from the drop-down)\n\n&nbsp
 \;\n\nPLEASE NOTE: As with all field trips\, CPS cannot be held responsibl
 e for any accidents or injuries - participate at your own risk.\n\n&nbsp\;
END:VEVENT
BEGIN:VTIMEZONE
TZID:America/New_York
X-LIC-LOCATION:America/New_York
BEGIN:DAYLIGHT
DTSTART:20230312T030000
TZOFFSETFROM:-0500
TZOFFSETTO:-0400
TZNAME:EDT
END:DAYLIGHT
END:VTIMEZONE
END:VCALENDAR