BEGIN:VCALENDAR
VERSION:2.0
PRODID:-//wp-events-plugin.com//7.2.3.1//EN
TZID:America/New_York
X-WR-TIMEZONE:America/New_York
BEGIN:VEVENT
UID:156@clevelandphoto.org
DTSTART;TZID=America/New_York:20240112T193000
DTEND;TZID=America/New_York:20240112T210000
DTSTAMP:20230718T125253Z
URL:https://www.clevelandphoto.org/events/charro-country-the-unexpected-re
 wards-of-long-term-photography-projects/
SUMMARY:Charro Country & The Unexpected Rewards of Long Term Photography Pr
 ojects Zoom event clubhouse will be open
DESCRIPTION:The Charro has a fascinating mythology that’s inspired me thr
 oughout this 5 year project. I spent months\, deep in Charro Country\, get
 ting to know the people\, their traditions… and being taught some cool r
 ope tricks.\n\nThis talk isn’t just about Charros though\, it’s also a
  look at the challenges and rewards that come with taking on a long term p
 hotography project like this.\nTopics Discussed\n\n 	I look at the technic
 al hurdles that come with a new project. Like learning how to correctly li
 ght horses and huge hats!\n 	I walk through my process for finding concept
 s\, models and locations.\n 	I discuss how it feels to slowly shift from c
 ommunity “outsider” to “insider”.\n 	This talk combines “behind 
 the scenes” video footage from my shoots with sketches\, location shots\
 , test shots and final photos\, to show the details of how a project like 
 this comes together.\n 	I close with the unexpected benefits I get from ta
 king on long term projects. Because they go beyond just improved technical
  skills.\n\nCheck out some of the photos featured in this new talk\n&nbsp\
 ;\n\nhttps://jpstonesphotography.com/photography-talks-the-charro-by-jp-st
 ones/\n\n  
END:VEVENT
BEGIN:VTIMEZONE
TZID:America/New_York
X-LIC-LOCATION:America/New_York
BEGIN:STANDARD
DTSTART:20231105T010000
TZOFFSETFROM:-0400
TZOFFSETTO:-0500
TZNAME:EST
END:STANDARD
END:VTIMEZONE
END:VCALENDAR