BEGIN:VCALENDAR
VERSION:2.0
PRODID:-//wp-events-plugin.com//7.2.3.1//EN
TZID:America/New_York
X-WR-TIMEZONE:America/New_York
BEGIN:VEVENT
UID:789@clevelandphoto.org
DTSTART;TZID=America/New_York:20251030T130000
DTEND;TZID=America/New_York:20251030T150000
DTSTAMP:20250919T152128Z
URL:https://www.clevelandphoto.org/events/capture-on-labs-field-trip/
SUMMARY:Capture On Labs Field Trip
DESCRIPTION:\n\n&nbsp\;\n\nCapture On Labs Field Trip\n\nOctober 30 2025\n\
 n1pm\n\nJoin CPS for an amazing field trip to Capture On Labs.  Founded b
 y David Shockey and Morrison Waud III this is the place many of your CPS f
 riends go for their prints. You will get a tour of the lab and all the inf
 o you could ever want to know about  the process involved in photographic
  print-making.\n\nA quote from David and Morrison: “Because we're profes
 sional photographers and we personally oversee each step of post-productio
 n and printing\, we're able to identify and correct printing errors often 
 missed by automated systems. We give your photographs the same attention a
 nd care we give our own images.”\n\n&nbsp\;\n\nThis field trip is free b
 ut you must register due to the limit of attendees. (if you register and c
 annot come please let me know so we can open it up for someone else\, if y
 ou cannot get in let me know so I can put you on the wait list)\n\nfieldtr
 ips@clevelandphoto.org\n\n440 570 5968\n\n&nbsp\;\n\nRegistration page: h
 ttps://www.clevelandphoto.org/field-trip-capture-on-labs\n\n&nbsp\;\n\nCap
 ture On Labs\n\n4574 Hamann Parkway\n\nWilloughby\, OH 44094\n\n&nbsp\;\n\
 nwww.captureonlabs.com\n\n&nbsp\;\n\n440-840-5699
END:VEVENT
BEGIN:VTIMEZONE
TZID:America/New_York
X-LIC-LOCATION:America/New_York
BEGIN:DAYLIGHT
DTSTART:20250309T030000
TZOFFSETFROM:-0500
TZOFFSETTO:-0400
TZNAME:EDT
END:DAYLIGHT
END:VTIMEZONE
END:VCALENDAR