BEGIN:VCALENDAR
VERSION:2.0
PRODID:-//wp-events-plugin.com//7.2.3.1//EN
TZID:America/New_York
X-WR-TIMEZONE:America/New_York
BEGIN:VEVENT
UID:328@clevelandphoto.org
DTSTART;TZID=America/New_York:20240322T193000
DTEND;TZID=America/New_York:20240322T200000
DTSTAMP:20240203T161258Z
URL:https://www.clevelandphoto.org/events/camera-bodies-with-eric-wethingt
 on/
SUMMARY:Camera Bodies with Eric Wethington
DESCRIPTION:"The Accessories you didn't know you needed... or even existed"
 \nEric Wethington of Dodd Camera will be informing us on the new camera bo
 dies on the market today. Product samples will be brought courtesy of Dodd
  Camera.\n&nbsp\;\n\n
END:VEVENT
BEGIN:VTIMEZONE
TZID:America/New_York
X-LIC-LOCATION:America/New_York
BEGIN:DAYLIGHT
DTSTART:20240310T030000
TZOFFSETFROM:-0500
TZOFFSETTO:-0400
TZNAME:EDT
END:DAYLIGHT
END:VTIMEZONE
END:VCALENDAR