BEGIN:VCALENDAR
VERSION:2.0
PRODID:-//wp-events-plugin.com//7.2.3.1//EN
TZID:America/New_York
X-WR-TIMEZONE:America/New_York
BEGIN:VEVENT
UID:278@clevelandphoto.org
DTSTART;TZID=America/New_York:20240127T183000
DTEND;TZID=America/New_York:20240127T230000
DTSTAMP:20240101T151506Z
URL:https://www.clevelandphoto.org/events/cabin-fever-party/
SUMMARY:Cabin Fever Party
DESCRIPTION:Our Annual Cabin Fever Party.\n\n 	Food\n 	Prizes\n 	Robber's A
 uction\n\nIt’s A Party! The CPS Annual Cabin Fever Party! Join your CPS 
 Members and Friends:\nSaturday\, January 27 at 7:00 p.m. The fun begins wi
 th a generous Potluck Buffet followed by a hilarious Robbers Gift Exchange
  hosted by our own Chuck Fitzgerald. Sign up and details upcoming. Volunte
 ers are needed for room setup\, checking\, and Buffet Table organization. 
 Please respond to Barb Pennington if you can help make this party a succes
 s at barbshalo@gmail.com.
END:VEVENT
BEGIN:VTIMEZONE
TZID:America/New_York
X-LIC-LOCATION:America/New_York
BEGIN:STANDARD
DTSTART:20231105T010000
TZOFFSETFROM:-0400
TZOFFSETTO:-0500
TZNAME:EST
END:STANDARD
END:VTIMEZONE
END:VCALENDAR