BEGIN:VCALENDAR
VERSION:2.0
PRODID:-//wp-events-plugin.com//7.2.3.1//EN
TZID:America/New_York
X-WR-TIMEZONE:America/New_York
BEGIN:VEVENT
UID:537@clevelandphoto.org
DTSTART;TZID=America/New_York:20250125T000000
DTEND;TZID=America/New_York:20250125T000000
DTSTAMP:20250107T201403Z
URL:https://www.clevelandphoto.org/events/cabin-fever-party-times-tbd/
SUMMARY:Cabin Fever Party - 7:00 PM
DESCRIPTION:
END:VEVENT
BEGIN:VTIMEZONE
TZID:America/New_York
X-LIC-LOCATION:America/New_York
BEGIN:STANDARD
DTSTART:20241103T010000
TZOFFSETFROM:-0400
TZOFFSETTO:-0500
TZNAME:EST
END:STANDARD
END:VTIMEZONE
END:VCALENDAR